BEGIN:VCALENDAR
VERSION:2.0
PRODID:-//Muslim National School - ECPv4.6.2//NONSGML v1.0//EN
CALSCALE:GREGORIAN
METHOD:PUBLISH
X-WR-CALNAME:Muslim National School
X-ORIGINAL-URL:https://muslimns.scoilnet.ie/blog
X-WR-CALDESC:Events for Muslim National School
BEGIN:VEVENT
DTSTART;TZID=UTC+0:20171002T150000
DTEND;TZID=UTC+0:20171002T160000
DTSTAMP:20171029T213609
CREATED:20171001T131157Z
LAST-MODIFIED:20171001T131157Z
UID:639-1506956400-1506960000@muslimns.scoilnet.ie
SUMMARY:Staff Meeting
DESCRIPTION:
URL:https://muslimns.scoilnet.ie/blog/event/staff-meeting/
END:VEVENT
BEGIN:VEVENT
DTSTART;TZID=UTC+0:20171004T090000
DTEND;TZID=UTC+0:20171004T123000
DTSTAMP:20171029T213609
CREATED:20171001T133327Z
LAST-MODIFIED:20171001T133439Z
UID:653-1507107600-1507120200@muslimns.scoilnet.ie
SUMMARY:Gymnastics (Junior Infants-2nd Class) Each Wednesday for 10 weeks
DESCRIPTION:
URL:https://muslimns.scoilnet.ie/blog/event/gymnastics-junior-infants-2nd-class/
END:VEVENT
BEGIN:VEVENT
DTSTART;TZID=UTC+0:20171011T090000
DTEND;TZID=UTC+0:20171011T123000
DTSTAMP:20171029T213609
CREATED:20171004T224610Z
LAST-MODIFIED:20171004T224610Z
UID:786-1507712400-1507725000@muslimns.scoilnet.ie
SUMMARY:Gymnastics Week 2 (Junior Infants-2nd)
DESCRIPTION:
URL:https://muslimns.scoilnet.ie/blog/event/gymnastics-week-2-junior-infants-2nd/
END:VEVENT
BEGIN:VEVENT
DTSTART;TZID=UTC+0:20171012T110500
DTEND;TZID=UTC+0:20171012T114500
DTSTAMP:20171029T213609
CREATED:20171001T130615Z
LAST-MODIFIED:20171001T130615Z
UID:632-1507806300-1507808700@muslimns.scoilnet.ie
SUMMARY:5th/6th Assembly
DESCRIPTION:
URL:https://muslimns.scoilnet.ie/blog/event/5th6th-assembly/
END:VEVENT
BEGIN:VEVENT
DTSTART;TZID=UTC+0:20171018T090000
DTEND;TZID=UTC+0:20171018T123000
DTSTAMP:20171029T213609
CREATED:20171004T224729Z
LAST-MODIFIED:20171004T224729Z
UID:788-1508317200-1508329800@muslimns.scoilnet.ie
SUMMARY:Gymnastics Week 3 (Junior Infants-2nd)
DESCRIPTION:
URL:https://muslimns.scoilnet.ie/blog/event/gymnastics-week-3-junior-infants-2nd/
END:VEVENT
BEGIN:VEVENT
DTSTART;TZID=UTC+0:20171025T090000
DTEND;TZID=UTC+0:20171025T123000
DTSTAMP:20171029T213609
CREATED:20171004T224844Z
LAST-MODIFIED:20171004T224844Z
UID:790-1508922000-1508934600@muslimns.scoilnet.ie
SUMMARY:Gymnastics Week 4 (Junior Infants-2nd)
DESCRIPTION:
URL:https://muslimns.scoilnet.ie/blog/event/gymnastics-week-4-junior-infants-2nd/
END:VEVENT
BEGIN:VEVENT
DTSTART;TZID=UTC+0:20171026T110500
DTEND;TZID=UTC+0:20171026T110500
DTSTAMP:20171029T213609
CREATED:20171001T130950Z
LAST-MODIFIED:20171001T130950Z
UID:637-1509015900-1509015900@muslimns.scoilnet.ie
SUMMARY:5th Class Assembly
DESCRIPTION:
URL:https://muslimns.scoilnet.ie/blog/event/5th-class-assembly/
END:VEVENT
BEGIN:VEVENT
DTSTART;TZID=UTC+0:20171027T145000
DTEND;TZID=UTC+0:20171102T090000
DTSTAMP:20171029T213609
CREATED:20171001T131632Z
LAST-MODIFIED:20171002T164715Z
UID:641-1509115800-1509613200@muslimns.scoilnet.ie
SUMMARY:Bank Holiday & Mid Term Break (School Closes Friday 27th October at normal time.  School Re-opens Thursday 2nd of November at 9am.)
DESCRIPTION:School Closes Friday 27th October at normal time. \nSchool Re-opens Thursday 2nd of November at 9am. \n
URL:https://muslimns.scoilnet.ie/blog/event/bank-holiday-mid-term-break-school-closes-friday-27th-october-at-normal-time-school-re-opens-thursday-2nd-of-november-at-9am/
END:VEVENT
END:VCALENDAR